BEGIN:VCALENDAR
VERSION:2.0
PRODID:-//Global Sustain - ECPv6.9.0//NONSGML v1.0//EN
CALSCALE:GREGORIAN
METHOD:PUBLISH
X-WR-CALNAME:Global Sustain
X-ORIGINAL-URL:https://globalsustain.org
X-WR-CALDESC:Events for Global Sustain
REFRESH-INTERVAL;VALUE=DURATION:PT1H
X-Robots-Tag:noindex
X-PUBLISHED-TTL:PT1H
BEGIN:VTIMEZONE
TZID:Europe/Moscow
BEGIN:STANDARD
TZOFFSETFROM:+0300
TZOFFSETTO:+0300
TZNAME:MSK
DTSTART:20260101T000000
END:STANDARD
END:VTIMEZONE
BEGIN:VEVENT
DTSTART;TZID=Europe/Moscow:20260319T100000
DTEND;TZID=Europe/Moscow:20260319T150000
DTSTAMP:20260414T034019
CREATED:20260316T132339Z
LAST-MODIFIED:20260317T132759Z
UID:10000991-1773914400-1773932400@globalsustain.org
SUMMARY:«Το Νερό σε Κρίση: Προκλήσεις & Λύσεις για ένα Βιώσιμο Μέλλον»
DESCRIPTION:Η κλιματική κρίση επαναπροσδιορίζει τα όρια των φυσικών πόρων\, φέρνοντας στο προσκήνιο ένα από τα πιο κρίσιμα ζητήματα της εποχής μας: τη διαχείριση του νερού. Η λειψυδρία δεν αποτελεί πλέον μια μελλοντική απειλή\, αλλά μια υπαρκτή πρόκληση με άμεσες επιπτώσεις στην οικονομία\, τις υποδομές\, την κοινωνική συνοχή και την ανθεκτικότητα των κοινωνιών. \nΣτο πλαίσιο της διαρκούς στήριξης των πρωτοβουλιών των Μελών της\, η Global Sustain σας προσκαλεί στην εκδήλωση που διοργανώνει το Μέλος της Ελληνο-Ολλανδικός Σύνδεσμος Εμπορίου & Βιομηχανίας\, με χορηγό το Μέλος της INTERAMERICAN\, με τίτλο «Το Νερό σε Κρίση: Προκλήσεις & Λύσεις για ένα Βιώσιμο Μέλλον»\, υπό την αιγίδα της Embassy of the Netherlands in Greece. \nΗ εκδήλωση φιλοδοξεί να αποτελέσει έναν ουσιαστικό χώρο διαλόγου\, φέρνοντας κοντά εκπροσώπους από τον δημόσιο τομέα\, την ακαδημαϊκή και επιστημονική κοινότητα\, τον επιχειρηματικό κόσμο και την κοινωνία των πολιτών. Στόχος είναι η ανάδειξη τόσο της έκτασης και των επιπτώσεων της κρίσης νερού\, όσο και των συστημικών κινδύνων που συνδέονται με τη διαχείριση των υδάτινων πόρων\, καθώς και η διερεύνηση βιώσιμων και εφαρμόσιμων λύσεων μέσα από την τεχνολογία\, τη διακυβέρνηση και τη συνεργασία. \n📅 19 Μαρτίου 2026📍 Ίδρυμα Βασίλη & Ελίζας Γουλανδρή🕙 Ώρα προσέλευσης: 10:00 \nΗ είσοδος είναι ελεύθερη. \nΑν σας ενδιαφέρουν τα θέματα βιωσιμότητας\, διαχείρισης υδάτων\, ανθεκτικότητας στην κλιματική αλλαγή και ESG\, η παρουσία σας θα συμβάλει ενεργά σε έναν διάλογο που γίνεται ολοένα και πιο επίκαιρος και αναγκαίος.
URL:https://globalsustain.org/event/to-nero-se-krisi-proklisis-lysis-gia-ena-viosimo-mellon/
LOCATION:Ίδρυμα Βασίλη & Ελίζας Γουλανδρή\, Ερατοσθένους 13\, Αθήνα\, Αθήνα\, 116 35\, Greece
CATEGORIES:Global Sustain
ATTACH;FMTTYPE=image/jpeg:https://globalsustain.org/wp-content/uploads/2026/03/invitation_gr.jpg
END:VEVENT
END:VCALENDAR