BEGIN:VCALENDAR
VERSION:2.0
PRODID:-//Global Sustain - ECPv6.9.0//NONSGML v1.0//EN
CALSCALE:GREGORIAN
METHOD:PUBLISH
X-ORIGINAL-URL:https://globalsustain.org
X-WR-CALDESC:Events for Global Sustain
REFRESH-INTERVAL;VALUE=DURATION:PT1H
X-Robots-Tag:noindex
X-PUBLISHED-TTL:PT1H
BEGIN:VTIMEZONE
TZID:Europe/Moscow
BEGIN:STANDARD
TZOFFSETFROM:+0300
TZOFFSETTO:+0300
TZNAME:MSK
DTSTART:20250101T000000
END:STANDARD
END:VTIMEZONE
BEGIN:VEVENT
DTSTART;TZID=Europe/Moscow:20251106T090000
DTEND;TZID=Europe/Moscow:20251106T180000
DTSTAMP:20260417T222558
CREATED:20251016T074036Z
LAST-MODIFIED:20251016T074036Z
UID:10000974-1762419600-1762452000@globalsustain.org
SUMMARY:3ο Συνέδριο Effective Dialogue @ the Crossroads | Πέμπτη 6 Νοεμβρίου 2025
DESCRIPTION:Σωστή πληροφόρηση σημαίνει σωστές αποφάσεις\nΤο Effective Dialogue επιστρέφει για τρίτη χρονιά\, αναδεικνύοντας τον κρίσιμο ρόλο του ανοιχτού και ουσιαστικού διαλόγου μεταξύ εταιρειών και κοινωνίας. \nΕστιάζει σε θέματα βιωσιμότητας\, κοινωνικής ευθύνης και περιβαλλοντικής δράσης\, με στόχο να μετατρέψει τη συζήτηση σε πράξεις με πραγματικό αποτύπωμα. \n📍 Stelios Foundation Conference Hall\, Κυδαθηναίων 22\, Πλάκα \n🕘 Ώρα: 09:00 – 18:00 \n🔗 Δείτε το πρόγραμμα τους ομιλητές και περισσότερες πληροφορίες εδώ. \n🔗 Κάντε την εγγραφή σας εδώ. \n🎟️ Εγγραφή με έκπτωση -50% με τον κωδικό Sympraxis50
URL:https://globalsustain.org/event/3o-synedrio-effective-dialogue-the-crossroads-pebti-6-noemvriou-2025/
LOCATION:Stelios Foundation Conference Hall\, Κυδαθηναίων 22\, Πλάκα\, Greece
CATEGORIES:Global Sustain
ATTACH;FMTTYPE=image/jpeg:https://globalsustain.org/wp-content/uploads/2025/10/3o-EFFECTIVE-DIALOGUE-1180-x-780-QR-50.jpg
END:VEVENT
BEGIN:VEVENT
DTSTART;TZID=Europe/Moscow:20251105T160000
DTEND;TZID=Europe/Moscow:20251105T200000
DTSTAMP:20260417T222558
CREATED:20251016T072257Z
LAST-MODIFIED:20251016T072257Z
UID:10000973-1762358400-1762372800@globalsustain.org
SUMMARY:TEDx Plaka Countdown | Τετάρτη 5 Νοεμβρίου 2025
DESCRIPTION:Our tomorrow\, today we choose\nΜια δυναμική βραδιά αφιερωμένη στην κλιματική κρίση και τη συλλογική δράση\, με επιδραστικούς ομιλητές που εμπνέουν αλλαγή. \nΤο TEDx Plaka Countdown καλεί πολίτες\, επιχειρήσεις και δημιουργικές κοινότητες να συμμετάσχουν σε μια κουλτούρα συμπερίληψης\, τόλμης και βιώσιμης προόδου. \n📍 Stelios Foundation Conference Hall\, Κυδαθηναίων 22\, Πλάκα \n🕓 Ώρα: 16:00 – 20:00 \n🔗 Δείτε τους ομιλητές και περισσότερες πληροφορίες εδώ. \n🔗 Κάντε την εγγραφή σας εδώ. \n🎟️ Εγγραφή με 33% έκπτωση με τον κωδικό Sympraxis20
URL:https://globalsustain.org/event/tedx-plaka-countdown-tetarti-5-noemvriou-2025/
LOCATION:Stelios Foundation Conference Hall\, Κυδαθηναίων 22\, Πλάκα\, Greece
CATEGORIES:Global Sustain
ATTACH;FMTTYPE=image/jpeg:https://globalsustain.org/wp-content/uploads/2025/10/TEDxPlaka-1920-x1080.jpg
END:VEVENT
END:VCALENDAR